BEGIN:VCALENDAR
VERSION:2.0
PRODID:-//CFMEU VIC &amp; TAS - ECPv6.15.9//NONSGML v1.0//EN
CALSCALE:GREGORIAN
METHOD:PUBLISH
X-WR-CALNAME:CFMEU VIC &amp; TAS
X-ORIGINAL-URL:https://vic.cfmeu.org
X-WR-CALDESC:Events for CFMEU VIC &amp; TAS
REFRESH-INTERVAL;VALUE=DURATION:PT1H
X-Robots-Tag:noindex
X-PUBLISHED-TTL:PT1H
BEGIN:VTIMEZONE
TZID:Australia/Melbourne
BEGIN:STANDARD
TZOFFSETFROM:+1100
TZOFFSETTO:+1000
TZNAME:AEST
DTSTART:20240406T160000
END:STANDARD
BEGIN:DAYLIGHT
TZOFFSETFROM:+1000
TZOFFSETTO:+1100
TZNAME:AEDT
DTSTART:20241005T160000
END:DAYLIGHT
BEGIN:STANDARD
TZOFFSETFROM:+1100
TZOFFSETTO:+1000
TZNAME:AEST
DTSTART:20250405T160000
END:STANDARD
BEGIN:DAYLIGHT
TZOFFSETFROM:+1000
TZOFFSETTO:+1100
TZNAME:AEDT
DTSTART:20251004T160000
END:DAYLIGHT
BEGIN:STANDARD
TZOFFSETFROM:+1100
TZOFFSETTO:+1000
TZNAME:AEST
DTSTART:20260404T160000
END:STANDARD
BEGIN:DAYLIGHT
TZOFFSETFROM:+1000
TZOFFSETTO:+1100
TZNAME:AEDT
DTSTART:20261003T160000
END:DAYLIGHT
END:VTIMEZONE
BEGIN:VEVENT
DTSTART;VALUE=DATE:20250308
DTEND;VALUE=DATE:20250309
DTSTAMP:20260421T183833
CREATED:20250127T080403Z
LAST-MODIFIED:20250127T080403Z
UID:10000064-1741392000-1741478399@vic.cfmeu.org
SUMMARY:International Women's Day
DESCRIPTION:
URL:https://vic.cfmeu.org/event/international-womens-day/
CATEGORIES:VIC Onsite
END:VEVENT
BEGIN:VEVENT
DTSTART;VALUE=DATE:20250308
DTEND;VALUE=DATE:20250309
DTSTAMP:20260421T183833
CREATED:20250128T035353Z
LAST-MODIFIED:20250128T035353Z
UID:10000139-1741392000-1741478399@vic.cfmeu.org
SUMMARY:International Women's Day
DESCRIPTION:
URL:https://vic.cfmeu.org/event/international-womens-day-2/
CATEGORIES:VIC Offsite
END:VEVENT
BEGIN:VEVENT
DTSTART;VALUE=DATE:20250308
DTEND;VALUE=DATE:20250309
DTSTAMP:20260421T183833
CREATED:20250128T152953Z
LAST-MODIFIED:20250128T152953Z
UID:10000198-1741392000-1741478399@vic.cfmeu.org
SUMMARY:International Women's Day
DESCRIPTION:
URL:https://vic.cfmeu.org/event/international-womens-day-3/
CATEGORIES:TAS
END:VEVENT
BEGIN:VEVENT
DTSTART;VALUE=DATE:20250309
DTEND;VALUE=DATE:20250310
DTSTAMP:20260421T183833
CREATED:20250127T080542Z
LAST-MODIFIED:20250127T080542Z
UID:10000066-1741478400-1741564799@vic.cfmeu.org
SUMMARY:Lockdown Weekend
DESCRIPTION:
URL:https://vic.cfmeu.org/event/lockdown-weekend-7/
CATEGORIES:VIC Onsite
END:VEVENT
BEGIN:VEVENT
DTSTART;VALUE=DATE:20250309
DTEND;VALUE=DATE:20250310
DTSTAMP:20260421T183833
CREATED:20250128T154336Z
LAST-MODIFIED:20250128T154414Z
UID:10000199-1741478400-1741564799@vic.cfmeu.org
SUMMARY:Lockdown Weekend
DESCRIPTION:
URL:https://vic.cfmeu.org/event/lockdown-weekend-16/
CATEGORIES:TAS
END:VEVENT
BEGIN:VEVENT
DTSTART;VALUE=DATE:20250310
DTEND;VALUE=DATE:20250311
DTSTAMP:20260421T183833
CREATED:20250127T080614Z
LAST-MODIFIED:20250127T080614Z
UID:10000067-1741564800-1741651199@vic.cfmeu.org
SUMMARY:Public Holiday
DESCRIPTION:
URL:https://vic.cfmeu.org/event/public-holiday-7/
CATEGORIES:VIC Onsite
END:VEVENT
BEGIN:VEVENT
DTSTART;VALUE=DATE:20250310
DTEND;VALUE=DATE:20250311
DTSTAMP:20260421T183833
CREATED:20250128T035408Z
LAST-MODIFIED:20250128T035408Z
UID:10000140-1741564800-1741651199@vic.cfmeu.org
SUMMARY:Public Holiday
DESCRIPTION:
URL:https://vic.cfmeu.org/event/public-holiday-17/
CATEGORIES:VIC Offsite
END:VEVENT
BEGIN:VEVENT
DTSTART;VALUE=DATE:20250310
DTEND;VALUE=DATE:20250311
DTSTAMP:20260421T183833
CREATED:20250128T154359Z
LAST-MODIFIED:20250128T154359Z
UID:10000200-1741564800-1741651199@vic.cfmeu.org
SUMMARY:Public Holiday
DESCRIPTION:
URL:https://vic.cfmeu.org/event/public-holiday-29/
CATEGORIES:TAS
END:VEVENT
BEGIN:VEVENT
DTSTART;VALUE=DATE:20250311
DTEND;VALUE=DATE:20250312
DTSTAMP:20260421T183833
CREATED:20250127T080842Z
LAST-MODIFIED:20250127T080842Z
UID:10000068-1741651200-1741737599@vic.cfmeu.org
SUMMARY:Rostered Day Off
DESCRIPTION:
URL:https://vic.cfmeu.org/event/rostered-day-off-17/
CATEGORIES:VIC Onsite
END:VEVENT
BEGIN:VEVENT
DTSTART;VALUE=DATE:20250311
DTEND;VALUE=DATE:20250312
DTSTAMP:20260421T183833
CREATED:20250128T035739Z
LAST-MODIFIED:20250128T035739Z
UID:10000141-1741651200-1741737599@vic.cfmeu.org
SUMMARY:Rostered Day Off
DESCRIPTION:
URL:https://vic.cfmeu.org/event/rostered-day-off-39/
CATEGORIES:VIC Offsite
END:VEVENT
BEGIN:VEVENT
DTSTART;VALUE=DATE:20250311
DTEND;VALUE=DATE:20250312
DTSTAMP:20260421T183833
CREATED:20250128T154701Z
LAST-MODIFIED:20250128T154701Z
UID:10000201-1741651200-1741737599@vic.cfmeu.org
SUMMARY:Rostered Day Off
DESCRIPTION:
URL:https://vic.cfmeu.org/event/rostered-day-off-51/
CATEGORIES:TAS
END:VEVENT
BEGIN:VEVENT
DTSTART;VALUE=DATE:20250326
DTEND;VALUE=DATE:20250327
DTSTAMP:20260421T183833
CREATED:20250127T080905Z
LAST-MODIFIED:20250127T080905Z
UID:10000069-1742947200-1743033599@vic.cfmeu.org
SUMMARY:Branch Meeting
DESCRIPTION:
URL:https://vic.cfmeu.org/event/branch-meeting-4/
CATEGORIES:VIC Onsite
END:VEVENT
BEGIN:VEVENT
DTSTART;VALUE=DATE:20250326
DTEND;VALUE=DATE:20250327
DTSTAMP:20260421T183833
CREATED:20250128T035755Z
LAST-MODIFIED:20250128T035755Z
UID:10000142-1742947200-1743033599@vic.cfmeu.org
SUMMARY:Branch Meeting
DESCRIPTION:
URL:https://vic.cfmeu.org/event/branch-meeting-15/
CATEGORIES:VIC Offsite
END:VEVENT
BEGIN:VEVENT
DTSTART;VALUE=DATE:20250331
DTEND;VALUE=DATE:20250401
DTSTAMP:20260421T183833
CREATED:20250127T081157Z
LAST-MODIFIED:20250127T081157Z
UID:10000070-1743379200-1743465599@vic.cfmeu.org
SUMMARY:Rostered Day Off
DESCRIPTION:
URL:https://vic.cfmeu.org/event/rostered-day-off-18/
CATEGORIES:VIC Onsite
END:VEVENT
END:VCALENDAR